BEGIN:VCALENDAR
VERSION:2.0
PRODID:-//The Crate Trafalgar - ECPv6.15.20//NONSGML v1.0//EN
CALSCALE:GREGORIAN
METHOD:PUBLISH
X-ORIGINAL-URL:https://thecratetrafalgar.co.uk
X-WR-CALDESC:Events for The Crate Trafalgar
REFRESH-INTERVAL;VALUE=DURATION:PT1H
X-Robots-Tag:noindex
X-PUBLISHED-TTL:PT1H
BEGIN:VTIMEZONE
TZID:UTC
BEGIN:STANDARD
TZOFFSETFROM:+0000
TZOFFSETTO:+0000
TZNAME:UTC
DTSTART:20240101T000000
END:STANDARD
END:VTIMEZONE
BEGIN:VEVENT
DTSTART;TZID=UTC:20250706T150000
DTEND;TZID=UTC:20250706T170000
DTSTAMP:20260424T114303
CREATED:20250701T171611Z
LAST-MODIFIED:20250701T171611Z
UID:754-1751814000-1751821200@thecratetrafalgar.co.uk
SUMMARY:LIVE MUSIC: Tim Quinlan FREE ENTRY
DESCRIPTION:The human jukebox debuts at The Crate Trafalgar! \nCrate Kitchen pizza 3-5pm \nHappy Hour 4-8pm \n2 for 1 spirits \n4 for 3 draught beers in a jug \n  \nBar open until 7pm.
URL:https://thecratetrafalgar.co.uk/whats-on/live-music-tim-quinlan-free-entry-2/
CATEGORIES:Evening Food,Event,Live Music
ATTACH;FMTTYPE=image/jpeg:https://thecratetrafalgar.co.uk/wp-content/uploads/2025/05/Tim-Quinlan.jpg
END:VEVENT
BEGIN:VEVENT
DTSTART;TZID=UTC:20250711T180000
DTEND;TZID=UTC:20250711T220000
DTSTAMP:20260424T114303
CREATED:20250529T135503Z
LAST-MODIFIED:20250623T140841Z
UID:747-1752256800-1752271200@thecratetrafalgar.co.uk
SUMMARY:Mexican Night
DESCRIPTION:📅 Friday 11 July \n⏰ 6 – 10 pm \nSpanish guitar and burritos – a match made in heaven. \nLaid back vibes as Cristian Herrera serenades us on guitar 7 – 9pm. \n🌯 Food by Sussex and Hampshire Hog. \n🍹Tequila Sunrise cocktail offer – 2 for 1 all night. \n  \nBook your table for 50p per person. \n  \nMENU \nSIDES / SHARERS \nTex mex fried rice Refried beans\, jalapeños\, peppers\, garlic & onion. £5 \nTortilla chips Melted cheese\, sour cream\, salsa\, homemade guacamole & jalapeños. £5 \nBlack bean and corn Sliced avocado\, cherry tomatoes\, red onion\, garlic & dressing. £5 \nTorpedo Taco Torta – grilled ‘Mexican sandwich’\nRefried beans\, sliced avocado\, pickled jalapeño\, shredded Mexicana cheese & tortillas chips. £15 \nEnchiladas – wrapped in a tortilla\nRoasted red peppers\, red onion\, tomatoes & montary jack cheese in a spicy tomato sauce. £15\nWith a choice of Cajun chicken\, pulled pork\, spicy minced beef\, bbq jack fruit or spicy beef. \nCorn trio tacos – GF\nTrio of tacos choose from:\nSpicy minced beef\nBBQ jackfruit \nPulled pork \nShredded chicken\nTopped with shredded lettuce sour cream and salsa.
URL:https://thecratetrafalgar.co.uk/whats-on/mexican-night/
CATEGORIES:Evening Food,Event,Live Music
ATTACH;FMTTYPE=image/png:https://thecratetrafalgar.co.uk/wp-content/uploads/2025/05/Cristian-Herrera-IG-sq.png
END:VEVENT
BEGIN:VEVENT
DTSTART;TZID=UTC:20250712T060000
DTEND;TZID=UTC:20250712T213000
DTSTAMP:20260424T114303
CREATED:20250701T171911Z
LAST-MODIFIED:20250701T171911Z
UID:755-1752300000-1752355800@thecratetrafalgar.co.uk
SUMMARY:QUIZ NIGHT! Book online
DESCRIPTION:📆 Saturday 12 July \n⏰ 7 – 9.30pm \n💸 Join the fun to win the pot. \nBring your brains\, brawn and creative flair. \n🦮 Family and dog friendly. \nBook your table for 50p per person online. \n£5 per person entry CASH ONLY ON THE NIGHT. \n  \nCrate Kitchen PIZZA 5 – 7.30pm \n🍻Happy hour 5.30 – 6.30pm. \n2 for 1 spirits (two singles or doubles for the price of a single) \n4 pints for the price of 3 in a jug
URL:https://thecratetrafalgar.co.uk/whats-on/quiz-night-book-online/
CATEGORIES:Evening Food,Event,Ticketed Event
ATTACH;FMTTYPE=image/png:https://thecratetrafalgar.co.uk/wp-content/uploads/2025/05/2.png
END:VEVENT
BEGIN:VEVENT
DTSTART;TZID=UTC:20250719T190000
DTEND;TZID=UTC:20250719T213000
DTSTAMP:20260424T114303
CREATED:20250701T172537Z
LAST-MODIFIED:20250701T172537Z
UID:756-1752951600-1752960600@thecratetrafalgar.co.uk
SUMMARY:BINGO NIGHT! Book online
DESCRIPTION: 📆 Saturday 19 July \nTime: 7 – 9.30pm \n  \nAn evening of luck and laughter 🍀 \n💸 Your chance to win cash prizes – the pot is split between winners. \n£5 per card CASH ONLY on the night for your cards. \nTwo rounds are played. Two cards maximum per person per round. \n  \nBook your table for 50p per person. \nTables are reserved from 6pm – arrive early to avoid waits! \n  \n🍹Happy Hour 5.30 – 6.30pm. \n🍕Crate Kitchen pizza 6-8pm. \n🐕 Family and dog friendly.
URL:https://thecratetrafalgar.co.uk/whats-on/bingo-night-book-online/
CATEGORIES:Evening Food,Event,Ticketed Event
ATTACH;FMTTYPE=image/png:https://thecratetrafalgar.co.uk/wp-content/uploads/2025/03/Bingo-Bos-thumbnail-cream.png
END:VEVENT
BEGIN:VEVENT
DTSTART;TZID=UTC:20250725T180000
DTEND;TZID=UTC:20250725T200000
DTSTAMP:20260424T114303
CREATED:20250701T173016Z
LAST-MODIFIED:20250701T173016Z
UID:758-1753466400-1753473600@thecratetrafalgar.co.uk
SUMMARY:LIVE MUSIC: James and The Giant Beat
DESCRIPTION:🍕 Crate Kitchen pizza 6-8pm \n🍹 Happy Hour 4-7pm \n2 for 1 spirits \n4 for 3 draught beers in a jug
URL:https://thecratetrafalgar.co.uk/whats-on/live-music-james-and-the-giant-beat/
CATEGORIES:Evening Food,Event,Live Music
END:VEVENT
BEGIN:VEVENT
DTSTART;TZID=UTC:20250726T180000
DTEND;TZID=UTC:20250726T210000
DTSTAMP:20260424T114303
CREATED:20250701T172902Z
LAST-MODIFIED:20250701T172902Z
UID:757-1753552800-1753563600@thecratetrafalgar.co.uk
SUMMARY:DJ I AM V - FREE ENTRY
DESCRIPTION:Ambient\, organic house vibes to watch the sunset. \n  \n🍕 Crate Kitchen pizza 6-8pm \n🍹 Happy Hour 4-7pm \n2 for 1 spirits \n4 for 3 draught beers in a jug
URL:https://thecratetrafalgar.co.uk/whats-on/dj-i-am-v-free-entry/
CATEGORIES:Evening Food,Event,Live Music
ATTACH;FMTTYPE=image/jpeg:https://thecratetrafalgar.co.uk/wp-content/uploads/2024/07/012e3242-6947-4209-bd7d-2b711c89ced8.jpg
END:VEVENT
END:VCALENDAR