BEGIN:VCALENDAR
VERSION:2.0
PRODID:-//The Crate Trafalgar - ECPv6.15.20//NONSGML v1.0//EN
CALSCALE:GREGORIAN
METHOD:PUBLISH
X-ORIGINAL-URL:https://thecratetrafalgar.co.uk
X-WR-CALDESC:Events for The Crate Trafalgar
REFRESH-INTERVAL;VALUE=DURATION:PT1H
X-Robots-Tag:noindex
X-PUBLISHED-TTL:PT1H
BEGIN:VTIMEZONE
TZID:UTC
BEGIN:STANDARD
TZOFFSETFROM:+0000
TZOFFSETTO:+0000
TZNAME:UTC
DTSTART:20240101T000000
END:STANDARD
END:VTIMEZONE
BEGIN:VEVENT
DTSTART;TZID=UTC:20250502T170000
DTEND;TZID=UTC:20250502T200000
DTSTAMP:20260422T164604
CREATED:20250318T210514Z
LAST-MODIFIED:20250415T184153Z
UID:694-1746205200-1746216000@thecratetrafalgar.co.uk
SUMMARY:Little Fish Sushi van @ The Crate Trafalgar
DESCRIPTION:Happy Hour* 4 – 7pm  \n🍹 2 for 1 spirits (singles) \n🍻 4 for 3 pints in a jug \n*Sign up to our newsletter to get the happy hour deal. Please sip responsibly. \n  \n🐟 Food van by Little Fish Sushi 5 – 8pm  \nor pre-order your sushi online. £2.50 surcharge per person. \n£10 off your first order when you spend over £50 with promo code: LFTCS10 \n  \n 
URL:https://thecratetrafalgar.co.uk/whats-on/little-fish-sushi-van-the-crate-trafalgar/
CATEGORIES:Evening Food,Event
ATTACH;FMTTYPE=image/png:https://thecratetrafalgar.co.uk/wp-content/uploads/2025/03/Little-Fish-IG-sq.png
END:VEVENT
END:VCALENDAR