BEGIN:VCALENDAR
VERSION:2.0
PRODID:-//The Crate Trafalgar - ECPv6.15.20//NONSGML v1.0//EN
CALSCALE:GREGORIAN
METHOD:PUBLISH
X-WR-CALNAME:The Crate Trafalgar
X-ORIGINAL-URL:https://thecratetrafalgar.co.uk
X-WR-CALDESC:Events for The Crate Trafalgar
REFRESH-INTERVAL;VALUE=DURATION:PT1H
X-Robots-Tag:noindex
X-PUBLISHED-TTL:PT1H
BEGIN:VTIMEZONE
TZID:UTC
BEGIN:STANDARD
TZOFFSETFROM:+0000
TZOFFSETTO:+0000
TZNAME:UTC
DTSTART:20240101T000000
END:STANDARD
END:VTIMEZONE
BEGIN:VEVENT
DTSTART;TZID=UTC:20250627T190000
DTEND;TZID=UTC:20250627T213000
DTSTAMP:20260424T234258
CREATED:20250529T140722Z
LAST-MODIFIED:20250529T183200Z
UID:751-1751050800-1751059800@thecratetrafalgar.co.uk
SUMMARY:BINGO NIGHT - book online
DESCRIPTION: 📆 Friday 27 June   \n⏰ 7 – 9.30pm \nAn evening of luck and laughter 🍀 \n💸 Your chance to win cash prizes – the pot is split between winners. \n£5 per card CASH ONLY on the night for your cards. \nTwo rounds are played. Two cards maximum per person per round. \nBook your table for 50p per person. \n  \nCrate Kitchen PIZZA 5 – 7.30pm \n🍹Happy Hour 5.30 – 6.30pm \n🐕 Family and dog friendly
URL:https://thecratetrafalgar.co.uk/whats-on/bingo-night-14/
CATEGORIES:Evening Food,Event,Ticketed Event
ATTACH;FMTTYPE=image/png:https://thecratetrafalgar.co.uk/wp-content/uploads/2025/03/Bingo-Bos-thumbnail-cream.png
END:VEVENT
END:VCALENDAR