BEGIN:VCALENDAR
VERSION:2.0
PRODID:-//The Crate Trafalgar - ECPv6.15.20//NONSGML v1.0//EN
CALSCALE:GREGORIAN
METHOD:PUBLISH
X-WR-CALNAME:The Crate Trafalgar
X-ORIGINAL-URL:https://thecratetrafalgar.co.uk
X-WR-CALDESC:Events for The Crate Trafalgar
REFRESH-INTERVAL;VALUE=DURATION:PT1H
X-Robots-Tag:noindex
X-PUBLISHED-TTL:PT1H
BEGIN:VTIMEZONE
TZID:UTC
BEGIN:STANDARD
TZOFFSETFROM:+0000
TZOFFSETTO:+0000
TZNAME:UTC
DTSTART:20230101T000000
END:STANDARD
END:VTIMEZONE
BEGIN:VEVENT
DTSTART;TZID=UTC:20241004T190000
DTEND;TZID=UTC:20241004T210000
DTSTAMP:20260420T101714
CREATED:20240910T122206Z
LAST-MODIFIED:20240911T212952Z
UID:628-1728068400-1728075600@thecratetrafalgar.co.uk
SUMMARY:LIVE MUSIC Jack Boyd 7-9pm
DESCRIPTION:The perfect backdrop to a catch up with friends and family\, or your next date night of choice? \nLocal music maestro\, Jack Boyd\, brings you a chilled set peppered with classic covers and originals. \nCrate Kitchen pizza 4.30-9pm. \nHappy Hour 6-7pm.
URL:https://thecratetrafalgar.co.uk/whats-on/live-music-jack-boyd-2/
CATEGORIES:Event,Live Music
ATTACH;FMTTYPE=image/jpeg:https://thecratetrafalgar.co.uk/wp-content/uploads/2023/12/e5fe9ab9-bb45-4af6-a097-67106174f5de.jpg
END:VEVENT
END:VCALENDAR