BEGIN:VCALENDAR
VERSION:2.0
PRODID:-//The Crate Trafalgar - ECPv6.15.20//NONSGML v1.0//EN
CALSCALE:GREGORIAN
METHOD:PUBLISH
X-WR-CALNAME:The Crate Trafalgar
X-ORIGINAL-URL:https://thecratetrafalgar.co.uk
X-WR-CALDESC:Events for The Crate Trafalgar
REFRESH-INTERVAL;VALUE=DURATION:PT1H
X-Robots-Tag:noindex
X-PUBLISHED-TTL:PT1H
BEGIN:VTIMEZONE
TZID:UTC
BEGIN:STANDARD
TZOFFSETFROM:+0000
TZOFFSETTO:+0000
TZNAME:UTC
DTSTART:20230101T000000
END:STANDARD
END:VTIMEZONE
BEGIN:VEVENT
DTSTART;TZID=UTC:20241214T190000
DTEND;TZID=UTC:20241214T210000
DTSTAMP:20260424T115502
CREATED:20241021T170950Z
LAST-MODIFIED:20241026T003925Z
UID:666-1734202800-1734210000@thecratetrafalgar.co.uk
SUMMARY:🎄 CHRISTMAS QUIZ
DESCRIPTION:Have yourself a merry little Quizmas at the Crate Trafalgar 🎄 \n📆 Saturday 14 December 7-9pm \n💸 Join the fun to win the pot. \n£5 per person entry CASH ONLY ON THE NIGHT. \nBring your brains\, brawn and creative flair. \nBook your table for 50p per person online. \n🍕Crate Kitchen pizza 4.30-9pm. \n🍹Happy Hour 6-7pm. \n🐕Family and dog friendly.
URL:https://thecratetrafalgar.co.uk/whats-on/quiz-night-10/
CATEGORIES:Event,Ticketed Event
ATTACH;FMTTYPE=image/png:https://thecratetrafalgar.co.uk/wp-content/uploads/2024/10/Traf-festive-quiz.png
END:VEVENT
END:VCALENDAR