BEGIN:VCALENDAR
VERSION:2.0
PRODID:-//The Crate Trafalgar - ECPv6.15.20//NONSGML v1.0//EN
CALSCALE:GREGORIAN
METHOD:PUBLISH
X-ORIGINAL-URL:https://thecratetrafalgar.co.uk
X-WR-CALDESC:Events for The Crate Trafalgar
REFRESH-INTERVAL;VALUE=DURATION:PT1H
X-Robots-Tag:noindex
X-PUBLISHED-TTL:PT1H
BEGIN:VTIMEZONE
TZID:UTC
BEGIN:STANDARD
TZOFFSETFROM:+0000
TZOFFSETTO:+0000
TZNAME:UTC
DTSTART:20240101T000000
END:STANDARD
END:VTIMEZONE
BEGIN:VEVENT
DTSTART;TZID=UTC:20250523T180000
DTEND;TZID=UTC:20250523T200000
DTSTAMP:20260419T153214
CREATED:20250519T163557Z
LAST-MODIFIED:20250519T163557Z
UID:735-1748023200-1748030400@thecratetrafalgar.co.uk
SUMMARY:PAELLA by Sussex and Hampshire Hog
DESCRIPTION:Mediterranean vegetable (GF) (DF) (VG) £12 \nPaella carne – meat and chorizo (GF) £13 \nSeafood topping – moules\, prawn\, calamari +£4
URL:https://thecratetrafalgar.co.uk/whats-on/paella-by-sussex-and-hampshire-hog/
CATEGORIES:Evening Food,Event,Live Music
ATTACH;FMTTYPE=image/png:https://thecratetrafalgar.co.uk/wp-content/uploads/2025/05/paella.png
END:VEVENT
BEGIN:VEVENT
DTSTART;TZID=UTC:20250523T180000
DTEND;TZID=UTC:20250523T220000
DTSTAMP:20260419T153214
CREATED:20250318T212816Z
LAST-MODIFIED:20250415T182031Z
UID:699-1748023200-1748037600@thecratetrafalgar.co.uk
SUMMARY:Spanish Night with music by Cristian Herrera
DESCRIPTION:Paella\, sea views\, sunset and Spanish guitar. What could be better? \nBook your table for 50p per person. \n  \nHappy Hour* 4 – 7pm  \n🍹 2 for 1 spirits (singles) \n🍻 4 for 3 pints in a jug \n*Sign up to our newsletter to get the happy hour deal. Please sip responsibly. \n  \nPhoto by Eray: https://www.pexels.com/photo/person-playing-acoustic-guitar-7534935/
URL:https://thecratetrafalgar.co.uk/whats-on/spanish-night-with-music-by-cristian-herrera/
CATEGORIES:Evening Food,Event,Live Music
ATTACH;FMTTYPE=image/png:https://thecratetrafalgar.co.uk/wp-content/uploads/2025/03/Spanish-guitar.png
END:VEVENT
END:VCALENDAR