BEGIN:VCALENDAR
VERSION:2.0
PRODID:-//The Crate Trafalgar - ECPv6.15.20//NONSGML v1.0//EN
CALSCALE:GREGORIAN
METHOD:PUBLISH
X-WR-CALNAME:The Crate Trafalgar
X-ORIGINAL-URL:https://thecratetrafalgar.co.uk
X-WR-CALDESC:Events for The Crate Trafalgar
REFRESH-INTERVAL;VALUE=DURATION:PT1H
X-Robots-Tag:noindex
X-PUBLISHED-TTL:PT1H
BEGIN:VTIMEZONE
TZID:UTC
BEGIN:STANDARD
TZOFFSETFROM:+0000
TZOFFSETTO:+0000
TZNAME:UTC
DTSTART:20240101T000000
END:STANDARD
END:VTIMEZONE
BEGIN:VEVENT
DTSTART;TZID=UTC:20250525T150000
DTEND;TZID=UTC:20250525T170000
DTSTAMP:20260419T154051
CREATED:20250318T213114Z
LAST-MODIFIED:20250415T183502Z
UID:701-1748185200-1748192400@thecratetrafalgar.co.uk
SUMMARY:BANK HOLIDAY SUNDAY LIVE MUSIC Aimee Moody 3-5pm
DESCRIPTION:Is it summertime yet? We hope so… \nJoin us for the sultry sounds of Miss Aimee Moody\, jazzy and soulful covers plus original material from our friend from across the pond. \n  \nHappy Hour* 3 – 7pm  \n🍹 2 for 1 spirits (singles) \n🍻 4 for 3 pints in a jug \n*Sign up to our newsletter to get the happy hour deal. Please sip responsibly. \n  \n🐟 Pre-order your sushi online. £2.50 surcharge per person. \n£10 off your first order when you spend over £50 with promo code: LFTCS10 \n  \nPicture by @sam_mgcann_art
URL:https://thecratetrafalgar.co.uk/whats-on/bank-holiday-sunday-live-music-aimee-moody-3-5pm/
CATEGORIES:Event,Live Music
ATTACH;FMTTYPE=image/jpeg:https://thecratetrafalgar.co.uk/wp-content/uploads/2025/03/PHOTO-2025-02-25-23-10-05.jpg
END:VEVENT
BEGIN:VEVENT
DTSTART;TZID=UTC:20250525T150000
DTEND;TZID=UTC:20250525T170000
DTSTAMP:20260419T154051
CREATED:20250519T094648Z
LAST-MODIFIED:20250519T094648Z
UID:734-1748185200-1748192400@thecratetrafalgar.co.uk
SUMMARY:FAT JACK'S BBQ SHACK food van
DESCRIPTION:Dig in to some tasty American smoked BBQ inspired food from Fat Jack’s Shack 3 – 5pm. \nBar open until 10pm. \nHappy Hour 3 – 6pm \n2 for 1 spirits (two singles or doubles for the price of a single) \n4 pints for the price of 3 in a jug
URL:https://thecratetrafalgar.co.uk/whats-on/fat-jacks-bbq-shack-food-van/
CATEGORIES:Evening Food,Event,Live Music
END:VEVENT
END:VCALENDAR