BEGIN:VCALENDAR
VERSION:2.0
PRODID:-//The Crate Trafalgar - ECPv6.15.20//NONSGML v1.0//EN
CALSCALE:GREGORIAN
METHOD:PUBLISH
X-ORIGINAL-URL:https://thecratetrafalgar.co.uk
X-WR-CALDESC:Events for The Crate Trafalgar
REFRESH-INTERVAL;VALUE=DURATION:PT1H
X-Robots-Tag:noindex
X-PUBLISHED-TTL:PT1H
BEGIN:VTIMEZONE
TZID:UTC
BEGIN:STANDARD
TZOFFSETFROM:+0000
TZOFFSETTO:+0000
TZNAME:UTC
DTSTART:20240101T000000
END:STANDARD
END:VTIMEZONE
BEGIN:VEVENT
DTSTART;TZID=UTC:20250628T170000
DTEND;TZID=UTC:20250628T210000
DTSTAMP:20260419T151950
CREATED:20250529T141819Z
LAST-MODIFIED:20250623T131508Z
UID:752-1751130000-1751144400@thecratetrafalgar.co.uk
SUMMARY:DJ NIGHT: I AM V - FREE ENTRY
DESCRIPTION:Ambient house music. \n🍕 Crate Kitchen PIZZA 5 – 7.30pm
URL:https://thecratetrafalgar.co.uk/whats-on/dj-night-i-am-v-free-entry/
CATEGORIES:Evening Food,Event,Live Music
ATTACH;FMTTYPE=image/jpeg:https://thecratetrafalgar.co.uk/wp-content/uploads/2024/07/012e3242-6947-4209-bd7d-2b711c89ced8.jpg
END:VEVENT
END:VCALENDAR