BEGIN:VCALENDAR
VERSION:2.0
PRODID:-//The Crate Trafalgar - ECPv6.15.20//NONSGML v1.0//EN
CALSCALE:GREGORIAN
METHOD:PUBLISH
X-ORIGINAL-URL:https://thecratetrafalgar.co.uk
X-WR-CALDESC:Events for The Crate Trafalgar
REFRESH-INTERVAL;VALUE=DURATION:PT1H
X-Robots-Tag:noindex
X-PUBLISHED-TTL:PT1H
BEGIN:VTIMEZONE
TZID:UTC
BEGIN:STANDARD
TZOFFSETFROM:+0000
TZOFFSETTO:+0000
TZNAME:UTC
DTSTART:20220101T000000
END:STANDARD
END:VTIMEZONE
BEGIN:VEVENT
DTSTART;TZID=UTC:20240419T190000
DTEND;TZID=UTC:20240419T210000
DTSTAMP:20260422T102022
CREATED:20240330T202325Z
LAST-MODIFIED:20240414T202053Z
UID:350-1713553200-1713560400@thecratetrafalgar.co.uk
SUMMARY:BINGO NIGHT!
DESCRIPTION:An evening of luck and laughter. \nYour chance to win cash prizes – the pot is split between winners. \n£5 per card CASH ONLY on the night for your cards. \nTwo rounds are played. Two cards maximum per round. \nBook your table for 50p per person. \n6.30-8.30pm Hu Bay Satay Dutch / Indonesian Cuisine – chicken and/or halloumi wraps with a choice of toppings. \nFamily and dog friendly.
URL:https://thecratetrafalgar.co.uk/whats-on/bingo-night-5/
CATEGORIES:Event,Ticketed Event
ATTACH;FMTTYPE=image/png:https://thecratetrafalgar.co.uk/wp-content/uploads/2023/12/Bingo-Traf-thumbnail.png
END:VEVENT
BEGIN:VEVENT
DTSTART;TZID=UTC:20240405T190000
DTEND;TZID=UTC:20240405T210000
DTSTAMP:20260422T102022
CREATED:20240107T200025Z
LAST-MODIFIED:20240331T212331Z
UID:323-1712343600-1712350800@thecratetrafalgar.co.uk
SUMMARY:SOLD OUT Quiz Night
DESCRIPTION:SOLD OUT Join the fun to win the pot 💰 \nBring your brains\, brawn and creative flair. \nFamily and dog friendly. \nBook your table for 50p per person online. \n£5 per person entry CASH ONLY ON THE NIGHT. \nHappy Hour 5-6pm. Loaded fries 6-8pm.
URL:https://thecratetrafalgar.co.uk/whats-on/quiz-night-3/
CATEGORIES:Event,Ticketed Event
ATTACH;FMTTYPE=image/png:https://thecratetrafalgar.co.uk/wp-content/uploads/2024/01/Quiz-Traf-thumbnail.png
END:VEVENT
BEGIN:VEVENT
DTSTART;TZID=UTC:20240322T190000
DTEND;TZID=UTC:20240322T210000
DTSTAMP:20260422T102022
CREATED:20240107T195633Z
LAST-MODIFIED:20240302T011634Z
UID:321-1711134000-1711141200@thecratetrafalgar.co.uk
SUMMARY:Bingo Night
DESCRIPTION:An evening of luck and laughter. \nYour chance to win cash prizes – the pot is split between winners. \n£5 per card CASH ONLY on the night for your cards. \nTwo rounds are played. Two cards maximum per round. \nBook your table for 50p per person. \nHappy hour 6-7pm. Loaded Fries 6-9pm. \nFamily and dog friendly.
URL:https://thecratetrafalgar.co.uk/whats-on/bingo-night-4/
CATEGORIES:Event,Ticketed Event
ATTACH;FMTTYPE=image/png:https://thecratetrafalgar.co.uk/wp-content/uploads/2023/12/Bingo-Traf-thumbnail.png
END:VEVENT
BEGIN:VEVENT
DTSTART;TZID=UTC:20240308T190000
DTEND;TZID=UTC:20240308T210000
DTSTAMP:20260422T102022
CREATED:20240107T195841Z
LAST-MODIFIED:20240303T190206Z
UID:322-1709924400-1709931600@thecratetrafalgar.co.uk
SUMMARY:SOLD OUT Quiz Night
DESCRIPTION:SOLD OUT Join the fun to win the pot 💰 \nYou will be tested in a variety of ways. \nBring your brains\, brawn and creative flair. \nThere is something for everyone at Crate quizzes – family and dog friendly. \n£5 per person. Pay for your team online to reserve your table. \nHappy Hour 6-7pm. Loaded Fries 6-8pm.
URL:https://thecratetrafalgar.co.uk/whats-on/322/
CATEGORIES:Event,Ticketed Event
ATTACH;FMTTYPE=image/png:https://thecratetrafalgar.co.uk/wp-content/uploads/2023/12/Quiz-Traf-2024-thumbnail.png
END:VEVENT
BEGIN:VEVENT
DTSTART;TZID=UTC:20240302T170000
DTEND;TZID=UTC:20240302T230000
DTSTAMP:20260422T102022
CREATED:20240207T163711Z
LAST-MODIFIED:20240207T203424Z
UID:332-1709398800-1709420400@thecratetrafalgar.co.uk
SUMMARY:Aprés Ski Party
DESCRIPTION:Date: Saturday 2nd March 2024\nTime: 5 pm until 11pm\nVenue: The Crate Trafalgar\, Trafalgar Wharf\, Hamilton Rd\, Portsmouth PO6 4PX\nJoin us for an evening of off-piste shenanigans at the infamous Crate Après Ski Party.  \nDance the night away with a live set from DJ Mark Covell.  \nTickets include a complimentary shot and alpine-themed fun and games. \nBook now!
URL:https://thecratetrafalgar.co.uk/whats-on/apres-ski-party/
CATEGORIES:Event,Ticketed Event
ATTACH;FMTTYPE=image/jpeg:https://thecratetrafalgar.co.uk/wp-content/uploads/2024/02/IMG_4145.jpg
END:VEVENT
BEGIN:VEVENT
DTSTART;TZID=UTC:20240223T190000
DTEND;TZID=UTC:20240223T210000
DTSTAMP:20260422T102022
CREATED:20240107T195404Z
LAST-MODIFIED:20240214T154931Z
UID:320-1708714800-1708722000@thecratetrafalgar.co.uk
SUMMARY:SOLD OUT Bingo Night
DESCRIPTION:An evening of luck and laughter. \nYour chance to win cash prizes – the pot is split between winners. \n£5 per card. Two rounds playing for one line and then full house. \nHappy hour 6-7pm. Loaded Fries 6-9pm. \nBuy your group’s first round of cards online to reserve your space. \nFamily and dog friendly.
URL:https://thecratetrafalgar.co.uk/whats-on/bingo-night-3/
CATEGORIES:Event,Ticketed Event
ATTACH;FMTTYPE=image/png:https://thecratetrafalgar.co.uk/wp-content/uploads/2023/12/Bingo-Traf-thumbnail.png
END:VEVENT
BEGIN:VEVENT
DTSTART;TZID=UTC:20240209T190000
DTEND;TZID=UTC:20240209T210000
DTSTAMP:20260422T102022
CREATED:20231229T234120Z
LAST-MODIFIED:20240214T154908Z
UID:312-1707505200-1707512400@thecratetrafalgar.co.uk
SUMMARY:SOLD OUT Quiz Night
DESCRIPTION:Join the fun to win the pot 💰 \nYou will be tested in a variety of ways. \nBring your brains\, brawn and creative flair. \nThere is something for everyone at Crate quizzes – family and dog friendly. \n£5 per person. Pay for your team online to reserve your table. \nHappy Hour 6-7pm. Loaded Nachos 6-9pm.
URL:https://thecratetrafalgar.co.uk/whats-on/quiz-night-2/
CATEGORIES:Event,Ticketed Event
ATTACH;FMTTYPE=image/png:https://thecratetrafalgar.co.uk/wp-content/uploads/2023/12/Quiz-Traf-2024-thumbnail.png
END:VEVENT
BEGIN:VEVENT
DTSTART;TZID=UTC:20240126T190000
DTEND;TZID=UTC:20240126T210000
DTSTAMP:20260422T102022
CREATED:20231229T233852Z
LAST-MODIFIED:20240107T201711Z
UID:311-1706295600-1706302800@thecratetrafalgar.co.uk
SUMMARY:Bingo Night
DESCRIPTION:An evening of luck and laughter. \nYour chance to win cash prizes – the pot is split between winners. \n£5 per card. Two rounds playing for one line and then full house. \nHappy hour 6-7pm. Loaded Nachos 6-8pm. \nBuy your group’s first round of cards online to reserve your space. \nFamily and dog friendly.
URL:https://thecratetrafalgar.co.uk/whats-on/bingo-night-2/
CATEGORIES:Event,Ticketed Event
ATTACH;FMTTYPE=image/png:https://thecratetrafalgar.co.uk/wp-content/uploads/2023/12/Bingo-Traf-thumbnail.png
END:VEVENT
BEGIN:VEVENT
DTSTART;TZID=UTC:20231229T190000
DTEND;TZID=UTC:20231229T210000
DTSTAMP:20260422T102022
CREATED:20231209T144525Z
LAST-MODIFIED:20231210T005704Z
UID:299-1703876400-1703883600@thecratetrafalgar.co.uk
SUMMARY:Big Crate Quiz of the Year
DESCRIPTION:Wholesome is the new wild. \nCome along for an evening of quizzical entertainment. We will test you mentally\, and sometimes physically and emotionally. \nFun for friends and family. \nCash prize to be won! \n£2 per person. Book online for your whole team. \nFood by the excellent Hu Bay Satay Indonesian Street Food with a seasonal twist menu.
URL:https://thecratetrafalgar.co.uk/whats-on/big-crate-quiz-of-the-year/
CATEGORIES:Event,Ticketed Event
ATTACH;FMTTYPE=image/png:https://thecratetrafalgar.co.uk/wp-content/uploads/2023/12/Crate-Quiz-of-the-Year-thumbnail.png
END:VEVENT
BEGIN:VEVENT
DTSTART;TZID=UTC:20231215T190000
DTEND;TZID=UTC:20231215T210000
DTSTAMP:20260422T102022
CREATED:20231019T212609Z
LAST-MODIFIED:20231125T125801Z
UID:287-1702666800-1702674000@thecratetrafalgar.co.uk
SUMMARY:Christmas Quiz Night
DESCRIPTION:’Tis the season for… quizzing 🎄 \nCome one\, come all for festive themed fun for friends and family. \nCash prize to be won! \n£2 per person. The pot goes to the winning team. \nBook online for your whole group to save your table.
URL:https://thecratetrafalgar.co.uk/whats-on/christmas-quiz-night/
CATEGORIES:Event,Ticketed Event
ATTACH;FMTTYPE=image/png:https://thecratetrafalgar.co.uk/wp-content/uploads/2023/10/30.11.23-Bos-Xmas-Quiz-calendar-thumbnail.png
END:VEVENT
BEGIN:VEVENT
DTSTART;TZID=UTC:20231207T180000
DTEND;TZID=UTC:20231207T220000
DTSTAMP:20260422T102022
CREATED:20231019T211854Z
LAST-MODIFIED:20231110T155342Z
UID:280-1701972000-1701986400@thecratetrafalgar.co.uk
SUMMARY:Festive Feast
DESCRIPTION:Thursday 7th December\n@ The Crate Trafalgar\, Trafalgar Wharf\, Portchester\nFrom 6:30pm\n£15.00 per head. Book your tickets here  \n \n  \nEat\, drink and be merry this Christmas at The Crate.  \nBook as a group\, or come alone and soak up the friendly\, festive atmosphere \n£15 per head \nWe will be serving a platter feast of: \n\nRoast pork & crackling\nHoney and Dijon roasted Ham\nPigs in blankets\nButchers sausage meat stuffing with apricot and chestnut wrapped in streaky bacon\nGoose fat roast spuds roasted in garlic and Rosemary\nHoney-roasted crispy parsnips\nLardons of bacon\, Chidham sprouts\, chestnuts\nRoasted carrots\, thyme orange\nHomemade pan gravy\nTraditional cranberry sauce.\n\nVegan Option \n\nHandmade nut-roast with apricot\, chestnut & cranberry\n\n\n  \nFollowed by a mince pie
URL:https://thecratetrafalgar.co.uk/whats-on/hog-roast-christmas-dinner-party/
CATEGORIES:Evening Food,Ticketed Event
ATTACH;FMTTYPE=image/jpeg:https://thecratetrafalgar.co.uk/wp-content/uploads/2023/10/PHOTO-2023-10-19-09-52-24.jpg
END:VEVENT
BEGIN:VEVENT
DTSTART;TZID=UTC:20230921T170000
DTEND;TZID=UTC:20230921T220000
DTSTAMP:20260422T102022
CREATED:20230918T155109Z
LAST-MODIFIED:20230918T155109Z
UID:254-1695315600-1695333600@thecratetrafalgar.co.uk
SUMMARY:Closed for Private Wine Tasting Event
DESCRIPTION:Buy tickets here: https://thecratecafe.co.uk/product/wine-tasting-chile-v-argentina-the-crate-trafalgar/
URL:https://thecratetrafalgar.co.uk/whats-on/closed-for-private-wine-tasting-event/
CATEGORIES:Ticketed Event
ATTACH;FMTTYPE=image/jpeg:https://thecratetrafalgar.co.uk/wp-content/uploads/2023/08/Wine-tasting-e1712517628527.jpeg
END:VEVENT
END:VCALENDAR