BEGIN:VCALENDAR
VERSION:2.0
PRODID:-//The Crate Trafalgar - ECPv6.15.20//NONSGML v1.0//EN
CALSCALE:GREGORIAN
METHOD:PUBLISH
X-WR-CALNAME:The Crate Trafalgar
X-ORIGINAL-URL:https://thecratetrafalgar.co.uk
X-WR-CALDESC:Events for The Crate Trafalgar
REFRESH-INTERVAL;VALUE=DURATION:PT1H
X-Robots-Tag:noindex
X-PUBLISHED-TTL:PT1H
BEGIN:VTIMEZONE
TZID:UTC
BEGIN:STANDARD
TZOFFSETFROM:+0000
TZOFFSETTO:+0000
TZNAME:UTC
DTSTART:20220101T000000
END:STANDARD
END:VTIMEZONE
BEGIN:VEVENT
DTSTART;TZID=UTC:20230909T193000
DTEND;TZID=UTC:20230909T213000
DTSTAMP:20260420T145812
CREATED:20230906T061418Z
LAST-MODIFIED:20230906T061418Z
UID:245-1694287800-1694295000@thecratetrafalgar.co.uk
SUMMARY:Live Music - Aimee Moody
DESCRIPTION:
URL:https://thecratetrafalgar.co.uk/whats-on/live-music-aimee-moody/
CATEGORIES:Live Music
ATTACH;FMTTYPE=image/jpeg:https://thecratetrafalgar.co.uk/wp-content/uploads/2023/09/Aimee-Moody.jpeg
END:VEVENT
BEGIN:VEVENT
DTSTART;TZID=UTC:20230909T170000
DTEND;TZID=UTC:20230909T210000
DTSTAMP:20260420T145812
CREATED:20230906T061302Z
LAST-MODIFIED:20230906T061302Z
UID:243-1694278800-1694293200@thecratetrafalgar.co.uk
SUMMARY:Pop-Up Street Food – Braai Club South African Style BBQ
DESCRIPTION:
URL:https://thecratetrafalgar.co.uk/whats-on/pop-up-street-food-braai-club-south-african-style-bbq/
CATEGORIES:Evening Food
ATTACH;FMTTYPE=image/jpeg:https://thecratetrafalgar.co.uk/wp-content/uploads/2023/09/Boerewors-Burger-with-Cheese.jpg
END:VEVENT
BEGIN:VEVENT
DTSTART;TZID=UTC:20230908T193000
DTEND;TZID=UTC:20230908T213000
DTSTAMP:20260420T145812
CREATED:20230906T061204Z
LAST-MODIFIED:20230906T061204Z
UID:239-1694201400-1694208600@thecratetrafalgar.co.uk
SUMMARY:Live Music - Jack Boyd
DESCRIPTION:
URL:https://thecratetrafalgar.co.uk/whats-on/live-music-jack-boyd/
CATEGORIES:Live Music
ATTACH;FMTTYPE=image/jpeg:https://thecratetrafalgar.co.uk/wp-content/uploads/2023/09/Jack.jpg
END:VEVENT
BEGIN:VEVENT
DTSTART;TZID=UTC:20230908T170000
DTEND;TZID=UTC:20230908T210000
DTSTAMP:20260420T145812
CREATED:20230906T060952Z
LAST-MODIFIED:20230906T060952Z
UID:238-1694192400-1694206800@thecratetrafalgar.co.uk
SUMMARY:Pop-Up Street Food – Chaat Food Truck
DESCRIPTION:
URL:https://thecratetrafalgar.co.uk/whats-on/pop-up-street-food-chaat-food-truck/
CATEGORIES:Evening Food
ATTACH;FMTTYPE=image/jpeg:https://thecratetrafalgar.co.uk/wp-content/uploads/2023/07/IMG_0722.jpg
END:VEVENT
BEGIN:VEVENT
DTSTART;TZID=UTC:20230902T160000
DTEND;TZID=UTC:20230902T220000
DTSTAMP:20260420T145812
CREATED:20230821T190833Z
LAST-MODIFIED:20230821T190833Z
UID:216-1693670400-1693692000@thecratetrafalgar.co.uk
SUMMARY:Closed for a private event
DESCRIPTION:
URL:https://thecratetrafalgar.co.uk/whats-on/closed-for-a-private-event/
END:VEVENT
BEGIN:VEVENT
DTSTART;TZID=UTC:20230901T170000
DTEND;TZID=UTC:20230901T210000
DTSTAMP:20260420T145812
CREATED:20230713T213514Z
LAST-MODIFIED:20230713T213514Z
UID:192-1693587600-1693602000@thecratetrafalgar.co.uk
SUMMARY:Pop-Up Street Food - Cornish Cook House
DESCRIPTION:
URL:https://thecratetrafalgar.co.uk/whats-on/pop-up-street-food-cornish-cook-house-4/
CATEGORIES:Evening Food
ATTACH;FMTTYPE=image/png:https://thecratetrafalgar.co.uk/wp-content/uploads/2023/07/cropped-New-logo-with-colour-1-2048x1335-1.png
END:VEVENT
BEGIN:VEVENT
DTSTART;TZID=UTC:20230831T170000
DTEND;TZID=UTC:20230831T200000
DTSTAMP:20260420T145812
CREATED:20230828T195215Z
LAST-MODIFIED:20230828T195215Z
UID:222-1693501200-1693512000@thecratetrafalgar.co.uk
SUMMARY:Street Food Pop-Up - Taste Buds - Indian and Thai
DESCRIPTION:
URL:https://thecratetrafalgar.co.uk/whats-on/street-food-pop-up-taste-buds-indian-and-thai/
CATEGORIES:Evening Food
ATTACH;FMTTYPE=image/jpeg:https://thecratetrafalgar.co.uk/wp-content/uploads/2023/07/feec1954-4fae-45a6-81fd-4d2cb2cb42b7.jpg
END:VEVENT
BEGIN:VEVENT
DTSTART;TZID=UTC:20230831T050000
DTEND;TZID=UTC:20230831T190000
DTSTAMP:20260420T145812
CREATED:20230807T101905Z
LAST-MODIFIED:20230807T101905Z
UID:209-1693458000-1693508400@thecratetrafalgar.co.uk
SUMMARY:Live Music - TBC
DESCRIPTION:
URL:https://thecratetrafalgar.co.uk/whats-on/live-music-tbc/
CATEGORIES:Live Music
END:VEVENT
BEGIN:VEVENT
DTSTART;TZID=UTC:20230826T170000
DTEND;TZID=UTC:20230826T210000
DTSTAMP:20260420T145812
CREATED:20230822T055553Z
LAST-MODIFIED:20230822T055553Z
UID:217-1693069200-1693083600@thecratetrafalgar.co.uk
SUMMARY:Street Food Pop-Up - Sizzling Kitchen Pizza
DESCRIPTION:
URL:https://thecratetrafalgar.co.uk/whats-on/street-food-pop-up-sizzling-kitchen-pizza/
CATEGORIES:Evening Food
ATTACH;FMTTYPE=image/jpeg:https://thecratetrafalgar.co.uk/wp-content/uploads/2023/08/348723591_6435616593156633_6331727039551860242_n.jpg
END:VEVENT
BEGIN:VEVENT
DTSTART;TZID=UTC:20230826T170000
DTEND;TZID=UTC:20230826T210000
DTSTAMP:20260420T145812
CREATED:20230821T185218Z
LAST-MODIFIED:20230821T185218Z
UID:215-1693069200-1693083600@thecratetrafalgar.co.uk
SUMMARY:Pop-Up Street Food - Vendor TBC
DESCRIPTION:
URL:https://thecratetrafalgar.co.uk/whats-on/pop-up-street-food-vendor-tbc/
CATEGORIES:Evening Food
END:VEVENT
BEGIN:VEVENT
DTSTART;TZID=UTC:20230825T160000
DTEND;TZID=UTC:20230825T220000
DTSTAMP:20260420T145812
CREATED:20230807T101824Z
LAST-MODIFIED:20230807T101824Z
UID:208-1692979200-1693000800@thecratetrafalgar.co.uk
SUMMARY:Closed for private event
DESCRIPTION:
URL:https://thecratetrafalgar.co.uk/whats-on/closed-for-private-event/
END:VEVENT
BEGIN:VEVENT
DTSTART;TZID=UTC:20230824T170000
DTEND;TZID=UTC:20230824T210000
DTSTAMP:20260420T145812
CREATED:20230713T213331Z
LAST-MODIFIED:20230713T213331Z
UID:191-1692896400-1692910800@thecratetrafalgar.co.uk
SUMMARY:Pop-Up Street Food - Chaat Food Truck
DESCRIPTION:
URL:https://thecratetrafalgar.co.uk/whats-on/pop-up-street-food-chaat-food-truck-3/
CATEGORIES:Evening Food
ATTACH;FMTTYPE=image/jpeg:https://thecratetrafalgar.co.uk/wp-content/uploads/2023/07/IMG_0722.jpg
END:VEVENT
BEGIN:VEVENT
DTSTART;TZID=UTC:20230818T190000
DTEND;TZID=UTC:20230818T210000
DTSTAMP:20260420T145812
CREATED:20230814T152140Z
LAST-MODIFIED:20230814T152140Z
UID:214-1692385200-1692392400@thecratetrafalgar.co.uk
SUMMARY:Live Music - Andy Muscatt
DESCRIPTION:
URL:https://thecratetrafalgar.co.uk/whats-on/live-music-andy-muscatt-2/
CATEGORIES:Live Music
ATTACH;FMTTYPE=image/jpeg:https://thecratetrafalgar.co.uk/wp-content/uploads/2023/07/Andy-Muscat.jpeg
END:VEVENT
BEGIN:VEVENT
DTSTART;TZID=UTC:20230818T180000
DTEND;TZID=UTC:20230818T210000
DTSTAMP:20260420T145812
CREATED:20230713T213214Z
LAST-MODIFIED:20230713T213214Z
UID:189-1692381600-1692392400@thecratetrafalgar.co.uk
SUMMARY:Pop-Up Street Food - Cornish Cook House
DESCRIPTION:
URL:https://thecratetrafalgar.co.uk/whats-on/pop-up-street-food-cornish-cook-house-3/
CATEGORIES:Evening Food
ATTACH;FMTTYPE=image/png:https://thecratetrafalgar.co.uk/wp-content/uploads/2023/07/cropped-New-logo-with-colour-1-2048x1335-1.png
END:VEVENT
BEGIN:VEVENT
DTSTART;TZID=UTC:20230817T170000
DTEND;TZID=UTC:20230817T210000
DTSTAMP:20260420T145812
CREATED:20230713T212941Z
LAST-MODIFIED:20230713T212941Z
UID:186-1692291600-1692306000@thecratetrafalgar.co.uk
SUMMARY:Pop-Up Street Food - Chaat Food Truck
DESCRIPTION:
URL:https://thecratetrafalgar.co.uk/whats-on/pop-up-street-food-chaat-food-truck-2/
CATEGORIES:Evening Food
ATTACH;FMTTYPE=image/jpeg:https://thecratetrafalgar.co.uk/wp-content/uploads/2023/07/IMG_0722.jpg
END:VEVENT
BEGIN:VEVENT
DTSTART;TZID=UTC:20230811T190000
DTEND;TZID=UTC:20230811T210000
DTSTAMP:20260420T145812
CREATED:20230808T210743Z
LAST-MODIFIED:20230808T210743Z
UID:210-1691780400-1691787600@thecratetrafalgar.co.uk
SUMMARY:Live Music - Lewis James - Live Looping Artist
DESCRIPTION:
URL:https://thecratetrafalgar.co.uk/whats-on/live-music-lewis-james-live-looping-artist/
CATEGORIES:Live Music
ATTACH;FMTTYPE=image/jpeg:https://thecratetrafalgar.co.uk/wp-content/uploads/2023/08/Lewis-James-Music-.jpeg
END:VEVENT
BEGIN:VEVENT
DTSTART;TZID=UTC:20230810T170000
DTEND;TZID=UTC:20230810T200000
DTSTAMP:20260420T145812
CREATED:20230804T165923Z
LAST-MODIFIED:20230804T165923Z
UID:205-1691686800-1691697600@thecratetrafalgar.co.uk
SUMMARY:Pop-Up Street Food - Arty-Stan Pizza
DESCRIPTION:
URL:https://thecratetrafalgar.co.uk/whats-on/pop-up-street-food-arty-stan-pizza/
CATEGORIES:Evening Food
ATTACH;FMTTYPE=image/jpeg:https://thecratetrafalgar.co.uk/wp-content/uploads/2023/08/347776508_901836337541566_7402803809059813450_n.jpg
END:VEVENT
BEGIN:VEVENT
DTSTART;TZID=UTC:20230804T180000
DTEND;TZID=UTC:20230804T210000
DTSTAMP:20260420T145812
CREATED:20230713T211506Z
LAST-MODIFIED:20230713T211506Z
UID:178-1691172000-1691182800@thecratetrafalgar.co.uk
SUMMARY:Pop-Up Street Food - Cornish Cook House
DESCRIPTION:
URL:https://thecratetrafalgar.co.uk/whats-on/pop-up-street-food-cornish-cook-house/
CATEGORIES:Evening Food
ATTACH;FMTTYPE=image/png:https://thecratetrafalgar.co.uk/wp-content/uploads/2023/07/cropped-New-logo-with-colour-1-2048x1335-1.png
END:VEVENT
BEGIN:VEVENT
DTSTART;TZID=UTC:20230803T170000
DTEND;TZID=UTC:20230803T200000
DTSTAMP:20260420T145812
CREATED:20230728T053845Z
LAST-MODIFIED:20230728T053845Z
UID:203-1691082000-1691092800@thecratetrafalgar.co.uk
SUMMARY:Pop-Up Street Food - Stones Throw Kitchen
DESCRIPTION:
URL:https://thecratetrafalgar.co.uk/whats-on/pop-up-street-food-stones-throw-kitchen/
ATTACH;FMTTYPE=image/jpeg:https://thecratetrafalgar.co.uk/wp-content/uploads/2023/07/Stones-throw-kitchen_pizza-3.jpeg
END:VEVENT
END:VCALENDAR